Workbook

Sheet Rekapitulace stavby
A1: 2012 | D1: List obsahuje: | K1: 1) Souhrnný list stavby | W1: 2) Rekapitulace objektů | BA1: 2.0 | BT1: False | BU1: False
C2: optimalizováno pro tisk sestav ve formátu A4 - na výšku | AR2: >> skryté sloupce << | BS2: 0,01 | BT2: 21
BS3: 0,01 | BT3: 15
C4: SOUHRNNÝ LIST STAVBY | AS4: v --- níže se nacházejí doplnkové a pomocné údaje k sestavám --- v | BS4: 0,001
D5: Kód: | K5: 692 | BS5: 0,01
D6: Stavba: | K6: Oprava komunikace | BS6: 0,1
D7: JKSO: | AK7: CC-CZ: | BS7: 1
D8: Místo: | K8: Libenice | AK8: Datum: | BS8: 10
BS9: 100
D10: Objednatel: | AK10: IČ: | BS10: 0,1
AK11: DIČ: | BS11: 0,1
BS12: 0,1
D13: Zhotovitel: | AK13: IČ: | BS13: 0,1
AK14: DIČ: | BS14: 0,1
BS15: False
D16: Projektant: | AK16: IČ: | BS16: False
AK17: DIČ: | BS17: True
BS18: 0,01
D19: Zpracovatel: | AK19: IČ: | BS19: 0,01
E20: Němec | AK20: DIČ:
D22: Poznámka:
D26: Náklady z rozpočtů | AK26: =ROUND(AG87,2) -> 0
D27: Ostatní náklady ze souhrnného listu | AK27: =ROUND(AG90,2) -> 0
D29: Cena bez DPH | AK29: =ROUND(AK26+AK27,2) -> 0
D31: DPH | F31: základní | L31: 0.21 | T31: ze | W31: =ROUND(AZ87+SUM(CD91),2) -> 0 | AK31: =ROUND(AV87+SUM(BY91),2) -> 0
F32: snížená | L32: 0.15 | T32: ze | W32: =ROUND(BA87+SUM(CE91),2) -> 0 | AK32: =ROUND(AW87+SUM(BZ91),2) -> 0
F33: zákl. přenesená | L33: 0.21 | T33: ze | W33: =ROUND(BB87+SUM(CF91),2) -> 0 | AK33: 0
F34: sníž. přenesená | L34: 0.15 | T34: ze | W34: =ROUND(BC87+SUM(CG91),2) -> 0 | AK34: 0
F35: nulová | L35: 0 | T35: ze | W35: =ROUND(BD87+SUM(CH91),2) -> 0 | AK35: 0
D37: Cena s DPH | T37: v | X37: CZK | AK37: =SUM(AK29:AK35) -> 0
D49: Projektant | AC49: Zpracovatel
D58: Datum a podpis: | R58: Razítko | AC58: Datum a podpis: | AM58: Razítko
D60: Objednavatel | AC60: Zhotovitel
D69: Datum a podpis: | R69: Razítko | AC69: Datum a podpis: | AM69: Razítko
C76: REKAPITULACE OBJEKTŮ STAVBY
C77: Kód: | L77: =K5 -> 692
C78: Stavba: | L78: =K6 -> Oprava komunikace
C80: Místo: | L80: =IF(K8="","",K8) -> Libenice | AI80: Datum: | AM80: =IF(AN8= "","",AN8)
C82: Objednatel: | L82: =IF(E11= "","",E11) | AI82: Projektant: | AM82: =IF(E17="","",E17) | AS82: Informatívní údaje z listů zakázek
C83: Zhotovitel: | L83: =IF(E14="","",E14) | AI83: Zpracovatel: | AM83: =IF(E20="","",E20) -> Němec
...

Sheet 692_1 - Libenice 6C
D1: List obsahuje: | F1: 1) Krycí list rozpočtu | H1: 2) Rekapitulace rozpočtu | L1: 3) Rozpočet | O1: Zpět na list: | S1: Rekapitulace stavby
C2: optimalizováno pro tisk sestav ve formátu A4 - na výšku | S2: >> skryté sloupce << | AT2: {dbc06966-b1b6-4e44-a4ff-8934082d91ed}
AT3: 2
C4: KRYCÍ LIST ROZPOČTU | T4: v --- níže se nacházejí doplnkové a pomocné údaje k sestavám --- v | AT4: False
D6: Stavba: | F6: ='Rekapitulace stavby'!K6 -> Oprava komunikace
D7: Objekt: | F7: 692_1 - Libenice 6C
D8: JKSO: | M8: CC-CZ:
D9: Místo: | F9: Libenice | M9: Datum: | O9: ='Rekapitulace stavby'!AN8 -> 0
D11: Objednatel: | M11: IČ: | O11: =IF('Rekapitulace stavby'!AN10="","",'Rekapitulace stavby'!AN10)
E12: =IF('Rekapitulace stavby'!E11="","",'Rekapitulace stavby'!E11) | M12: DIČ: | O12: =IF('Rekapitulace stavby'!AN11="","",'Rekapitulace stavby'!AN11)
D14: Zhotovitel: | M14: IČ: | O14: =IF('Rekapitulace stavby'!AN13="","",'Rekapitulace stavby'!AN13)
E15: =IF('Rekapitulace stavby'!E14="","",'Rekapitulace stavby'!E14) | M15: DIČ: | O15: =IF('Rekapitulace stavby'!AN14="","",'Rekapitulace stavby'!AN14)
D17: Projektant: | M17: IČ: | O17: =IF('Rekapitulace stavby'!AN16="","",'Rekapitulace stavby'!AN16)
E18: =IF('Rekapitulace stavby'!E17="","",'Rekapitulace stavby'!E17) | M18: DIČ: | O18: =IF('Rekapitulace stavby'!AN17="","",'Rekapitulace stavby'!AN17)
D20: Zpracovatel: | M20: IČ:
E21: Němec | M21: DIČ:
D23: Poznámka:
D27: Náklady z rozpočtu | M27: =N88 -> 0
D28: Ostatní náklady | M28: =N95 -> 0
D30: Cena bez DPH | M30: =ROUND(M27+M28,2) -> 0
D32: DPH | E32: základní | F32: 0.21 | G32: ze | H32: =ROUND((SUM(BE95:BE98)+SUM(BE116:BE133)), 2) -> 0 | M32: =ROUND(ROUND((SUM(BE95:BE98)+SUM(BE116:BE133)), 2)*F32, 2) -> 0
E33: snížená | F33: 0.15 | G33: ze | H33: =ROUND((SUM(BF95:BF98)+SUM(BF116:BF133)), 2) -> 0 | M33: =ROUND(ROUND((SUM(BF95:BF98)+SUM(BF116:BF133)), 2)*F33, 2) -> 0
E34: zákl. přenesená | F34: 0.21 | G34: ze | H34: =ROUND((SUM(BG95:BG98)+SUM(BG116:BG133)), 2) -> 0 | M34: 0
E35: sníž. přenesená | F35: 0.15 | G35: ze | H35: =ROUND((SUM(BH95:BH98)+SUM(BH116:BH133)), 2) -> 0 | M35: 0
E36: nulová | F36: 0 | G36: ze | H36: =ROUND((SUM(BI95:BI98)+SUM(BI116:BI133)), 2) -> 0 | M36: 0
D38: Cena s DPH | G38: v | H38: CZK | L38: =SUM(M30:M36) -> 0
D50: Projektant | J50: Zpracovatel
D59: Datum a podpis: | G59: Razítko | J59: Datum a podpis: | N59: Razítko
D61: Objednavatel | J61: Zhotovitel
D70: Datum a podpis: | G70: Razítko | J70: Datum a podpis: | N70: Razítko
C76: REKAPITULACE ROZPOČTU
C78: Stavba: | F78: =F6 -> Oprava komunikace
C79: Objekt: | F79: =F7 -> 692_1 - Libenice 6C
C81: Místo: | F81: =F9 -> Libenice | K81: Datum: | M81: =IF(O9="","",O9) -> 0
C83: Objednatel: | F83: =E12 | K83: Projektant: | M83: =E18
C84: Zhotovitel: | F84: =IF(E15="","",E15) | K84: Zpracovatel: | M84: =E21 -> Němec
C86: Kód - Popis | N86: Cena celkem [CZK]
C88: 1) Náklady z rozpočtu | N88: =N116 -> 0 | AU88: -1
D89: HSV - Práce a dodávky HSV | N89: =N117 -> 0
D90: 1 - Zemní práce | N90: =N118 -> 0
...
