Workbook

Sheet Rekapitulace stavby
A1: 2012 | D1: List obsahuje: | K1: 1) Souhrnný list stavby | W1: 2) Rekapitulace objektů | BA1: 2.0 | BT1: False | BU1: False
C2: optimalizováno pro tisk sestav ve formátu A4 - na výšku | AR2: >> skryté sloupce << | BS2: 0,01 | BT2: 21
BS3: 0,01 | BT3: 15
C4: SOUHRNNÝ LIST STAVBY | AS4: v --- níže se nacházejí doplnkové a pomocné údaje k sestavám --- v | BS4: 0,001
D5: Kód: | K5: 692 | BS5: 0,01
D6: Stavba: | K6: Oprava komunikace | BS6: 0,1
D7: JKSO: | AK7: CC-CZ: | BS7: 1
D8: Místo: | K8: Libenice | AK8: Datum: | BS8: 10
BS9: 100
D10: Objednatel: | AK10: IČ: | BS10: 0,1
AK11: DIČ: | BS11: 0,1
BS12: 0,1
D13: Zhotovitel: | AK13: IČ: | BS13: 0,1
AK14: DIČ: | BS14: 0,1
BS15: False
D16: Projektant: | AK16: IČ: | BS16: False
AK17: DIČ: | BS17: True
BS18: 0,01
D19: Zpracovatel: | AK19: IČ: | BS19: 0,01
E20: Němec | AK20: DIČ:
D22: Poznámka:
D26: Náklady z rozpočtů | AK26: =ROUND(AG87,2) -> 0
D27: Ostatní náklady ze souhrnného listu | AK27: =ROUND(AG90,2) -> 0
D29: Cena bez DPH | AK29: =ROUND(AK26+AK27,2) -> 0
D31: DPH | F31: základní | L31: 0.21 | T31: ze | W31: =ROUND(AZ87+SUM(CD91),2) -> 0 | AK31: =ROUND(AV87+SUM(BY91),2) -> 0
F32: snížená | L32: 0.15 | T32: ze | W32: =ROUND(BA87+SUM(CE91),2) -> 0 | AK32: =ROUND(AW87+SUM(BZ91),2) -> 0
F33: zákl. přenesená | L33: 0.21 | T33: ze | W33: =ROUND(BB87+SUM(CF91),2) -> 0 | AK33: 0
F34: sníž. přenesená | L34: 0.15 | T34: ze | W34: =ROUND(BC87+SUM(CG91),2) -> 0 | AK34: 0
F35: nulová | L35: 0 | T35: ze | W35: =ROUND(BD87+SUM(CH91),2) -> 0 | AK35: 0
D37: Cena s DPH | T37: v | X37: CZK | AK37: =SUM(AK29:AK35) -> 0
D49: Projektant | AC49: Zpracovatel
D58: Datum a podpis: | R58: Razítko | AC58: Datum a podpis: | AM58: Razítko
D60: Objednavatel | AC60: Zhotovitel
D69: Datum a podpis: | R69: Razítko | AC69: Datum a podpis: | AM69: Razítko
C76: REKAPITULACE OBJEKTŮ STAVBY
C77: Kód: | L77: =K5 -> 692
C78: Stavba: | L78: =K6 -> Oprava komunikace
C80: Místo: | L80: =IF(K8="","",K8) -> Libenice | AI80: Datum: | AM80: =IF(AN8= "","",AN8)
C82: Objednatel: | L82: =IF(E11= "","",E11) | AI82: Projektant: | AM82: =IF(E17="","",E17) | AS82: Informatívní údaje z listů zakázek
C83: Zhotovitel: | L83: =IF(E14="","",E14) | AI83: Zpracovatel: | AM83: =IF(E20="","",E20) -> Němec
C85: Kód | I85: Objekt | AG85: Cena bez DPH [CZK] | AN85: Cena s DPH [CZK] | AS85: z toho Ostat._x000D_ náklady [CZK] | AT85: DPH [CZK] | AU85: Normohodiny [h] | AV85: DPH základní [CZK] | AW85: DPH snížená [CZK] | AX85: DPH základní přenesená_x000D_ [CZK] | AY85: DPH snížená přenesená_x000D_ [CZK] | AZ85: Základna_x000D_ DPH základní | BA85: Základna_x000D_ DPH snížená | BB85: Základna_x000D_ DPH zákl. přenesená | BC85: Základna_x000D_ DPH sníž. přenesená | BD85: Základna_x000D_ DPH nulová
C87: 1) Náklady z rozpočtů | AG87: =ROUND(AG88,2) -> 0 | AN87: =SUM(AG87,AT87) -> 0 | AS87: =ROUND(AS88,2) -> 0 | AT87: =ROUND(SUM(AV87:AW87),2) -> 0 | AU87: =ROUND(AU88,5) -> 247.5604 | AV87: =ROUND(AZ87*L31,2) -> 0 | AW87: =ROUND(BA87*L32,2) -> 0 | AX87: =ROUND(BB87*L31,2) -> 0 | AY87: =ROUND(BC87*L32,2) -> 0 | AZ87: =ROUND(AZ88,2) -> 0 | BA87: =ROUND(BA88,2) -> 0 | BB87: =ROUND(BB88,2) -> 0 | BC87: =ROUND(BC88,2) -> 0 | BD87: =ROUND(BD88,2) -> 0 | BS87: D | BT87: 0 | BU87: ###NOIMPORT### | BV87: IMPORT | BW87: {56ab802c-6a93-4963-9d3a-0cfb89094f73} | BX87: {00000000-0000-0000-0000-000000000000}
A88: / | D88: 692_1 | J88: Libenice 6C | AG88: ='692_1 - Libenice 6C'!M30 -> 0 | AN88: =SUM(AG88,AT88) -> 0 | AS88: ='692_1 - Libenice 6C'!M28 -> 0 | AT88: =ROUND(SUM(AV88:AW88),2) -> 0 | AU88: ='692_1 - Libenice 6C'!W116 -> 247.5604 | AV88: ='692_1 - Libenice 6C'!M32 -> 0 | AW88: ='692_1 - Libenice 6C'!M33 -> 0 | AX88: ='692_1 - Libenice 6C'!M34 -> 0 | AY88: ='692_1 - Libenice 6C'!M35 -> 0 | AZ88: ='692_1 - Libenice 6C'!H32 -> 0 | BA88: ='692_1 - Libenice 6C'!H33 -> 0 | BB88: ='692_1 - Libenice 6C'!H34 -> 0 | BC88: ='692_1 - Libenice 6C'!H35 -> 0 | BD88: ='692_1 - Libenice 6C'!H36 -> 0 | BT88: 1 | BV88: IMPORT | BW88: {dbc06966-b1b6-4e44-a4ff-8934082d91ed} | BX88: {56ab802c-6a93-4963-9d3a-0cfb89094f73}
C90: 2) Ostatní náklady ze souhrnného listu | AG90: 0 | AN90: 0 | AS90: Procent. zadání_x000D_ [% nákladů rozpočtu] | AT90: Zařazení nákladů | AU90: DPH | AV90: DPH [CZK]
C92: Celkové náklady za stavbu 1) + 2) | AG92: =ROUND(AG87+AG90,2) -> 0 | AN92: =AN87+AN90 -> 0

Sheet 692_1 - Libenice 6C
D1: List obsahuje: | F1: 1) Krycí list rozpočtu | H1: 2) Rekapitulace rozpočtu | L1: 3) Rozpočet | O1: Zpět na list: | S1: Rekapitulace stavby
C2: optimalizováno pro tisk sestav ve formátu A4 - na výšku | S2: >> skryté sloupce << | AT2: {dbc06966-b1b6-4e44-a4ff-8934082d91ed}
AT3: 2
C4: KRYCÍ LIST ROZPOČTU | T4: v --- níže se nacházejí doplnkové a pomocné údaje k sestavám --- v | AT4: False
D6: Stavba: | F6: ='Rekapitulace stavby'!K6 -> Oprava komunikace
D7: Objekt: | F7: 692_1 - Libenice 6C
D8: JKSO: | M8: CC-CZ:
D9: Místo: | F9: Libenice | M9: Datum: | O9: ='Rekapitulace stavby'!AN8 -> 0
D11: Objednatel: | M11: IČ: | O11: =IF('Rekapitulace stavby'!AN10="","",'Rekapitulace stavby'!AN10)
E12: =IF('Rekapitulace stavby'!E11="","",'Rekapitulace stavby'!E11) | M12: DIČ: | O12: =IF('Rekapitulace stavby'!AN11="","",'Rekapitulace stavby'!AN11)
D14: Zhotovitel: | M14: IČ: | O14: =IF('Rekapitulace stavby'!AN13="","",'Rekapitulace stavby'!AN13)
E15: =IF('Rekapitulace stavby'!E14="","",'Rekapitulace stavby'!E14) | M15: DIČ: | O15: =IF('Rekapitulace stavby'!AN14="","",'Rekapitulace stavby'!AN14)
D17: Projektant: | M17: IČ: | O17: =IF('Rekapitulace stavby'!AN16="","",'Rekapitulace stavby'!AN16)
E18: =IF('Rekapitulace stavby'!E17="","",'Rekapitulace stavby'!E17) | M18: DIČ: | O18: =IF('Rekapitulace stavby'!AN17="","",'Rekapitulace stavby'!AN17)
D20: Zpracovatel: | M20: IČ:
E21: Němec | M21: DIČ:
D23: Poznámka:
D27: Náklady z rozpočtu | M27: =N88 -> 0
D28: Ostatní náklady | M28: =N95 -> 0
D30: Cena bez DPH | M30: =ROUND(M27+M28,2) -> 0
D32: DPH | E32: základní | F32: 0.21 | G32: ze | H32: =ROUND((SUM(BE95:BE98)+SUM(BE116:BE133)), 2) -> 0 | M32: =ROUND(ROUND((SUM(BE95:BE98)+SUM(BE116:BE133)), 2)*F32, 2) -> 0
E33: snížená | F33: 0.15 | G33: ze | H33: =ROUND((SUM(BF95:BF98)+SUM(BF116:BF133)), 2) -> 0 | M33: =ROUND(ROUND((SUM(BF95:BF98)+SUM(BF116:BF133)), 2)*F33, 2) -> 0
E34: zákl. přenesená | F34: 0.21 | G34: ze | H34: =ROUND((SUM(BG95:BG98)+SUM(BG116:BG133)), 2) -> 0 | M34: 0
E35: sníž. přenesená | F35: 0.15 | G35: ze | H35: =ROUND((SUM(BH95:BH98)+SUM(BH116:BH133)), 2) -> 0 | M35: 0
E36: nulová | F36: 0 | G36: ze | H36: =ROUND((SUM(BI95:BI98)+SUM(BI116:BI133)), 2) -> 0 | M36: 0
D38: Cena s DPH | G38: v | H38: CZK | L38: =SUM(M30:M36) -> 0
D50: Projektant | J50: Zpracovatel
D59: Datum a podpis: | G59: Razítko | J59: Datum a podpis: | N59: Razítko
D61: Objednavatel | J61: Zhotovitel
D70: Datum a podpis: | G70: Razítko | J70: Datum a podpis: | N70: Razítko
C76: REKAPITULACE ROZPOČTU
C78: Stavba: | F78: =F6 -> Oprava komunikace
C79: Objekt: | F79: =F7 -> 692_1 - Libenice 6C
C81: Místo: | F81: =F9 -> Libenice | K81: Datum: | M81: =IF(O9="","",O9) -> 0
C83: Objednatel: | F83: =E12 | K83: Projektant: | M83: =E18
C84: Zhotovitel: | F84: =IF(E15="","",E15) | K84: Zpracovatel: | M84: =E21 -> Němec
C86: Kód - Popis | N86: Cena celkem [CZK]
C88: 1) Náklady z rozpočtu | N88: =N116 -> 0 | AU88: -1
D89: HSV - Práce a dodávky HSV | N89: =N117 -> 0
D90: 1 - Zemní práce | N90: =N118 -> 0
D91: 5 - Komunikace pozemní | N91: =N120 -> 0
D92: 8 - Trubní vedení | N92: =N127 -> 0
D93: 997 - Přesun sutě | N93: =N130 -> 0
C95: 2) Ostatní náklady | N95: =ROUND(N96+N97,2) -> 0 | U95: DPH
D96: Zařízení staveniště | U96: základní | AY96: VRN | BE96: =IF(U96="základní",N96,0) -> 0 | BF96: =IF(U96="snížená",N96,0) -> 0 | BG96: =IF(U96="zákl. přenesená",N96,0) -> 0 | BH96: =IF(U96="sníž. přenesená",N96,0) -> 0 | BI96: =IF(U96="nulová",N96,0) -> 0 | BJ96: 1
D97: Územní vlivy | U97: základní | AY97: VRN | BE97: =IF(U97="základní",N97,0) -> 0 | BF97: =IF(U97="snížená",N97,0) -> 0 | BG97: =IF(U97="zákl. přenesená",N97,0) -> 0 | BH97: =IF(U97="sníž. přenesená",N97,0) -> 0 | BI97: =IF(U97="nulová",N97,0) -> 0 | BJ97: 1
C99: Celkové náklady za stavbu 1) + 2) | L99: =ROUND(SUM(N88+N95),2) -> 0
C105: ROZPOČET
C107: Stavba: | F107: =F6 -> Oprava komunikace
C108: Objekt: | F108: =F7 -> 692_1 - Libenice 6C
C110: Místo: | F110: =F9 -> Libenice | K110: Datum: | M110: =IF(O9="","",O9) -> 0
C112: Objednatel: | F112: =E12 | K112: Projektant: | M112: =E18
C113: Zhotovitel: | F113: =IF(E15="","",E15) | K113: Zpracovatel: | M113: =E21 -> Němec
C115: PČ | D115: Typ | E115: Kód | F115: Popis | J115: MJ | K115: Množství | L115: J.cena [CZK] | N115: Cena celkem [CZK] | T115: Poznámka | U115: DPH | V115: J. Nh [h] | W115: Nh celkem [h] | X115: J. hmotnost_x000D_ [t] | Y115: Hmotnost_x000D_ celkem [t] | Z115: J. suť [t] | AA115: Suť Celkem [t]
C116: Náklady z rozpočtu | N116: =BK116 -> 0 | W116: =W117 -> 247.5604 | Y116: =Y117 -> 22.134 | AA116: =AA117 -> 234.84 | AT116: D | AU116: -1 | BK116: =BK117 -> 0
D117: HSV - Práce a dodávky HSV | N117: =BK117 -> 0 | W117: =W118+W120+W127+W130 -> 247.5604 | Y117: =Y118+Y120+Y127+Y130 -> 22.134 | AA117: =AA118+AA120+AA127+AA130 -> 234.84 | AR117: 1 | AT117: D | AU117: 0 | AY117: ROZPOCET | BK117: =BK118+BK120+BK127+BK130 -> 0
D118: 1 - Zemní práce | N118: =BK118 -> 0 | W118: =W119 -> 36.48 | Y118: =Y119 -> 0.0912 | AA118: =AA119 -> 234.84 | AR118: 1 | AT118: D | AU118: 1 | AY118: ROZPOCET | BK118: =BK119 -> 0
C119: 1 | D119: K | E119: 113154222 | F119: Frézování živičného krytu tl 40 mm pruh š 1 m pl do 1000 m2 bez překážek v trase | J119: m2 | K119: 2280 | N119: =ROUND(L119*K119,2) -> 0 | U119: základní | V119: 0.016 | W119: =V119*K119 -> 36.48 | X119: 4e-05 | Y119: =X119*K119 -> 0.0912 | Z119: 0.103 | AA119: =Z119*K119 -> 234.84 | AR119: 4 | AT119: K | AU119: 2 | AY119: ROZPOCET | BE119: =IF(U119="základní",N119,0) -> 0 | BF119: =IF(U119="snížená",N119,0) -> 0 | BG119: =IF(U119="zákl. přenesená",N119,0) -> 0 | BH119: =IF(U119="sníž. přenesená",N119,0) -> 0 | BI119: =IF(U119="nulová",N119,0) -> 0 | BJ119: 1 | BK119: =ROUND(L119*K119,2) -> 0 | BL119: 4 | BM119: -210345978
D120: 5 - Komunikace pozemní | N120: =BK120 -> 0 | W120: =SUM(W121:W126) -> 93.936 | Y120: =SUM(Y121:Y126) -> 13.7028 | AA120: =SUM(AA121:AA126) -> 0 | AR120: 1 | AT120: D | AU120: 1 | AY120: ROZPOCET | BK120: =SUM(BK121:BK126) -> 0
C121: 2 | D121: K | E121: 564752111 | F121: Podklad z vibrovaného štěrku VŠ tl 150 mm - doplnění - 20% plochy | J121: m2 | K121: 456 | N121: =ROUND(L121*K121,2) -> 0 | U121: základní | V121: 0.055 | W121: =V121*K121 -> 25.08 | X121: 0 | Y121: =X121*K121 -> 0 | Z121: 0 | AA121: =Z121*K121 -> 0 | AR121: 4 | AT121: K | AU121: 2 | AY121: ROZPOCET | BE121: =IF(U121="základní",N121,0) -> 0 | BF121: =IF(U121="snížená",N121,0) -> 0 | BG121: =IF(U121="zákl. přenesená",N121,0) -> 0 | BH121: =IF(U121="sníž. přenesená",N121,0) -> 0 | BI121: =IF(U121="nulová",N121,0) -> 0 | BJ121: 1 | BK121: =ROUND(L121*K121,2) -> 0 | BL121: 4 | BM121: -1846260136
F122: 2280*0,2 | K122: 456 | AT122: VV | AU122: 2 | AV122: 2 | AW122: True | AX122: 1 | AY122: ROZPOCET
C123: 3 | D123: K | E123: 573111112 | F123: Postřik živičný infiltrační s posypem z asfaltu množství 1 kg/m2 | J123: m2 | K123: 2280 | N123: =ROUND(L123*K123,2) -> 0 | U123: základní | V123: 0.004 | W123: =V123*K123 -> 9.12 | X123: 0.00601 | Y123: =X123*K123 -> 13.7028 | Z123: 0 | AA123: =Z123*K123 -> 0 | AR123: 4 | AT123: K | AU123: 2 | AY123: ROZPOCET | BE123: =IF(U123="základní",N123,0) -> 0 | BF123: =IF(U123="snížená",N123,0) -> 0 | BG123: =IF(U123="zákl. přenesená",N123,0) -> 0 | BH123: =IF(U123="sníž. přenesená",N123,0) -> 0 | BI123: =IF(U123="nulová",N123,0) -> 0 | BJ123: 1 | BK123: =ROUND(L123*K123,2) -> 0 | BL123: 4 | BM123: 2048377992
C124: 4 | D124: K | E124: 577135111 | F124: Asfaltový beton vrstva obrusná ACO 16 (ABH) tl 40 mm š do 3 m z nemodifikovaného asfaltu - vyrovnání, spádování, doplnění - 20% plochy | J124: m2 | K124: 456 | N124: =ROUND(L124*K124,2) -> 0 | U124: základní | V124: 0.066 | W124: =V124*K124 -> 30.096 | X124: 0 | Y124: =X124*K124 -> 0 | Z124: 0 | AA124: =Z124*K124 -> 0 | AR124: 4 | AT124: K | AU124: 2 | AY124: ROZPOCET | BE124: =IF(U124="základní",N124,0) -> 0 | BF124: =IF(U124="snížená",N124,0) -> 0 | BG124: =IF(U124="zákl. přenesená",N124,0) -> 0 | BH124: =IF(U124="sníž. přenesená",N124,0) -> 0 | BI124: =IF(U124="nulová",N124,0) -> 0 | BJ124: 1 | BK124: =ROUND(L124*K124,2) -> 0 | BL124: 4 | BM124: -718894426
F125: 2280*0,2 | K125: 456 | AT125: VV | AU125: 2 | AV125: 2 | AW125: True | AX125: 1 | AY125: ROZPOCET
C126: 5 | D126: K | E126: 577135121 | F126: Asfaltový beton vrstva obrusná ACO 16 (ABH) tl 40 mm š přes 3 m z nemodifikovaného asfaltu | J126: m2 | K126: 2280 | N126: =ROUND(L126*K126,2) -> 0 | U126: základní | V126: 0.013 | W126: =V126*K126 -> 29.64 | X126: 0 | Y126: =X126*K126 -> 0 | Z126: 0 | AA126: =Z126*K126 -> 0 | AR126: 4 | AT126: K | AU126: 2 | AY126: ROZPOCET | BE126: =IF(U126="základní",N126,0) -> 0 | BF126: =IF(U126="snížená",N126,0) -> 0 | BG126: =IF(U126="zákl. přenesená",N126,0) -> 0 | BH126: =IF(U126="sníž. přenesená",N126,0) -> 0 | BI126: =IF(U126="nulová",N126,0) -> 0 | BJ126: 1 | BK126: =ROUND(L126*K126,2) -> 0 | BL126: 4 | BM126: -1540536862
D127: 8 - Trubní vedení | N127: =BK127 -> 0 | W127: =SUM(W128:W129) -> 50.215 | Y127: =SUM(Y128:Y129) -> 8.34 | AA127: =SUM(AA128:AA129) -> 0 | AR127: 1 | AT127: D | AU127: 1 | AY127: ROZPOCET | BK127: =SUM(BK128:BK129) -> 0
C128: 6 | D128: K | E128: 899231111 | F128: Výšková úprava uličního vstupu nebo vpusti do 200 mm zvýšením mříže | J128: kus | K128: 5 | N128: =ROUND(L128*K128,2) -> 0 | U128: základní | V128: 3.839 | W128: =V128*K128 -> 19.195 | X128: 0.42368 | Y128: =X128*K128 -> 2.1184 | Z128: 0 | AA128: =Z128*K128 -> 0 | AR128: 4 | AT128: K | AU128: 2 | AY128: ROZPOCET | BE128: =IF(U128="základní",N128,0) -> 0 | BF128: =IF(U128="snížená",N128,0) -> 0 | BG128: =IF(U128="zákl. přenesená",N128,0) -> 0 | BH128: =IF(U128="sníž. přenesená",N128,0) -> 0 | BI128: =IF(U128="nulová",N128,0) -> 0 | BJ128: 1 | BK128: =ROUND(L128*K128,2) -> 0 | BL128: 4 | BM128: 163071352
C129: 7 | D129: K | E129: 899431111 | F129: Výšková úprava uličního vstupu nebo vpusti do 200 mm zvýšením krycího hrnce, šoupěte nebo hydrantu | J129: kus | K129: 20 | N129: =ROUND(L129*K129,2) -> 0 | U129: základní | V129: 1.551 | W129: =V129*K129 -> 31.02 | X129: 0.31108 | Y129: =X129*K129 -> 6.2216 | Z129: 0 | AA129: =Z129*K129 -> 0 | AR129: 4 | AT129: K | AU129: 2 | AY129: ROZPOCET | BE129: =IF(U129="základní",N129,0) -> 0 | BF129: =IF(U129="snížená",N129,0) -> 0 | BG129: =IF(U129="zákl. přenesená",N129,0) -> 0 | BH129: =IF(U129="sníž. přenesená",N129,0) -> 0 | BI129: =IF(U129="nulová",N129,0) -> 0 | BJ129: 1 | BK129: =ROUND(L129*K129,2) -> 0 | BL129: 4 | BM129: 123016030
D130: 997 - Přesun sutě | N130: =BK130 -> 0 | W130: =SUM(W131:W133) -> 66.9294 | Y130: =SUM(Y131:Y133) -> 0 | AA130: =SUM(AA131:AA133) -> 0 | AR130: 1 | AT130: D | AU130: 1 | AY130: ROZPOCET | BK130: =SUM(BK131:BK133) -> 0
C131: 8 | D131: K | E131: 997002611 | F131: Nakládání suti a vybouraných hmot | J131: t | K131: 234.84 | N131: =ROUND(L131*K131,2) -> 0 | U131: základní | V131: 0.136 | W131: =V131*K131 -> 31.93824 | X131: 0 | Y131: =X131*K131 -> 0 | Z131: 0 | AA131: =Z131*K131 -> 0 | AR131: 4 | AT131: K | AU131: 2 | AY131: ROZPOCET | BE131: =IF(U131="základní",N131,0) -> 0 | BF131: =IF(U131="snížená",N131,0) -> 0 | BG131: =IF(U131="zákl. přenesená",N131,0) -> 0 | BH131: =IF(U131="sníž. přenesená",N131,0) -> 0 | BI131: =IF(U131="nulová",N131,0) -> 0 | BJ131: 1 | BK131: =ROUND(L131*K131,2) -> 0 | BL131: 4 | BM131: -639113532
C132: 9 | D132: K | E132: 997013501 | F132: Odvoz suti a vybouraných hmot na skládku nebo meziskládku do 1 km se složením | J132: t | K132: 234.84 | N132: =ROUND(L132*K132,2) -> 0 | U132: základní | V132: 0.125 | W132: =V132*K132 -> 29.355 | X132: 0 | Y132: =X132*K132 -> 0 | Z132: 0 | AA132: =Z132*K132 -> 0 | AR132: 4 | AT132: K | AU132: 2 | AY132: ROZPOCET | BE132: =IF(U132="základní",N132,0) -> 0 | BF132: =IF(U132="snížená",N132,0) -> 0 | BG132: =IF(U132="zákl. přenesená",N132,0) -> 0 | BH132: =IF(U132="sníž. přenesená",N132,0) -> 0 | BI132: =IF(U132="nulová",N132,0) -> 0 | BJ132: 1 | BK132: =ROUND(L132*K132,2) -> 0 | BL132: 4 | BM132: 1423756206
C133: 10 | D133: K | E133: 997013509 | F133: Příplatek k odvozu suti a vybouraných hmot na skládku ZKD 1 km přes 1 km | J133: t | K133: 939.36 | N133: =ROUND(L133*K133,2) -> 0 | U133: základní | V133: 0.006 | W133: =V133*K133 -> 5.63616 | X133: 0 | Y133: =X133*K133 -> 0 | Z133: 0 | AA133: =Z133*K133 -> 0 | AR133: 4 | AT133: K | AU133: 2 | AY133: ROZPOCET | BE133: =IF(U133="základní",N133,0) -> 0 | BF133: =IF(U133="snížená",N133,0) -> 0 | BG133: =IF(U133="zákl. přenesená",N133,0) -> 0 | BH133: =IF(U133="sníž. přenesená",N133,0) -> 0 | BI133: =IF(U133="nulová",N133,0) -> 0 | BJ133: 1 | BK133: =ROUND(L133*K133,2) -> 0 | BL133: 4 | BM133: -287784331
